BEGIN:VCALENDAR
VERSION:2.0
PRODID:gruene-solingen.de
METHOD:PUBLISH
BEGIN:VTIMEZONE
TZID:Europe/Berlin
X-LIC-LOCATION:Europe/Berlin
BEGIN:DAYLIGHT
TZOFFSETFROM:+0100
TZOFFSETTO:+0200
TZNAME:CEST
DTSTART:19700329T020000
RRULE:FREQ=YEARLY;INTERVAL=1;BYDAY=-1SU;BYMONTH=3
END:DAYLIGHT
BEGIN:STANDARD
TZOFFSETFROM:+0200
TZOFFSETTO:+0100
TZNAME:CET
DTSTART:19701025T030000
RRULE:FREQ=YEARLY;INTERVAL=1;BYDAY=-1SU;BYMONTH=10
END:STANDARD
END:VTIMEZONE
BEGIN:VEVENT
UID:e562be541d86f9916e3e7e0d5bdbcb22@gruene-solingen.de
URL;VALUE=URI:https://gruene-solingen.de/termine/vorstandssitzung-2/
LOCATION:Online
SUMMARY:Vorstandssitzung
DESCRIPTION;ALTREP="data:text/html,%3Cp%3EF%C3%BCr%20weitere%20Informatio
 nen%20bitte%20an%20kv%40gruene-solingen.de%20wenden%3C%2Fp%3E":Für weite
 re Informationen bitte an kv@gruene-solingen.de wenden
CLASS:PUBLIC
DTSTART;TZID=Europe/Berlin:20260505T190000
DTEND;TZID=Europe/Berlin:20260505T203000
DTSTAMP:20260421T123218
END:VEVENT
END:VCALENDAR