BEGIN:VCALENDAR
VERSION:2.0
PRODID:gruene-solingen.de
METHOD:PUBLISH
BEGIN:VTIMEZONE
TZID:Europe/Berlin
X-LIC-LOCATION:Europe/Berlin
BEGIN:DAYLIGHT
TZOFFSETFROM:+0100
TZOFFSETTO:+0200
TZNAME:CEST
DTSTART:19700329T020000
RRULE:FREQ=YEARLY;INTERVAL=1;BYDAY=-1SU;BYMONTH=3
END:DAYLIGHT
BEGIN:STANDARD
TZOFFSETFROM:+0200
TZOFFSETTO:+0100
TZNAME:CET
DTSTART:19701025T030000
RRULE:FREQ=YEARLY;INTERVAL=1;BYDAY=-1SU;BYMONTH=10
END:STANDARD
END:VTIMEZONE
BEGIN:VEVENT
UID:180220f96751a31c232f87299b03d990@gruene-solingen.de
URL;VALUE=URI:https://gruene-solingen.de/termine/kennenlerntreffen-fuer-n
 eumitglieder-und-interessierte/
LOCATION:Eiland 10, 42651 Solingen, Deutschland
SUMMARY:Kennenlerntreffen für (Neu)mitglieder und Interessierte
DESCRIPTION;ALTREP="data:text/html,%3Cp%3E%3C%2Fp%3E":
CLASS:PUBLIC
DTSTART;TZID=Europe/Berlin:20260509T090000
DTEND;TZID=Europe/Berlin:20260509T110000
DTSTAMP:20260423T144431
END:VEVENT
END:VCALENDAR